BEGIN:VCALENDAR
VERSION:2.0
PRODID:-//University of Central Punjab
CALSCALE:GREGORIAN
METHOD:PUBLISH
X-WR-CALNAME:University of Central Punjab
X-ORIGINAL-URL:https://ucp.edu.pk/event/cultural-carnival-17/
X-WR-CALDESC:Cultural Carnival&#8217; 17
BEGIN:VEVENT
DTSTART:20170520T090000
DTEND:20170521T160000
SUMMARY:Cultural Carnival&#8217; 17
DESCRIPTION:
LOCATION:University of Central Punjab, Johar Town, Lahore.
END:VEVENT
END:VCALENDAR
