BEGIN:VCALENDAR
VERSION:2.0
PRODID:-//University of Central Punjab
CALSCALE:GREGORIAN
METHOD:PUBLISH
X-WR-CALNAME:University of Central Punjab
X-ORIGINAL-URL:https://ucp.edu.pk/event/ucp-business-school-organized-a-session-of-mr-sabir-sami/
X-WR-CALDESC:UCP Business School Organized a session of Mr Sabir Sami
BEGIN:VEVENT
DTSTART:20151222T130000
DTEND:20151222T170000
SUMMARY:UCP Business School Organized a session of Mr Sabir Sami
DESCRIPTION:
LOCATION:1 - Khayaban-e-Jinnah Road, Johar Town, Lahore.
END:VEVENT
END:VCALENDAR
