BEGIN:VCALENDAR
VERSION:2.0
PRODID:-//University of Central Punjab
CALSCALE:GREGORIAN
METHOD:PUBLISH
X-WR-CALNAME:University of Central Punjab
X-ORIGINAL-URL:https://ucp.edu.pk/event/bba-program-industrial-visits-initiative-fast-cables/
X-WR-CALDESC:BBA Program – Industrial Visits Initiative (Fast Cables)
BEGIN:VEVENT
DTSTART:20180103T000000
DTEND:20180103T000000
SUMMARY:BBA Program – Industrial Visits Initiative (Fast Cables)
DESCRIPTION:
LOCATION:Raiwind Road, Lahore
END:VEVENT
END:VCALENDAR
