BEGIN:VCALENDAR
VERSION:2.0
PRODID:-//University of Central Punjab
CALSCALE:GREGORIAN
METHOD:PUBLISH
X-WR-CALNAME:University of Central Punjab
X-ORIGINAL-URL:https://ucp.edu.pk/event/talk-delivered-ayesha-sheeraz-motorway-police/
X-WR-CALDESC:A Talk Delivered by Ayesha Sheeraz to Motorway Police
BEGIN:VEVENT
DTSTART:20171205T000000
DTEND:20171205T000000
SUMMARY:A Talk Delivered by Ayesha Sheeraz to Motorway Police
DESCRIPTION:
LOCATION:Motorway Police headquarters Sial Mor
END:VEVENT
END:VCALENDAR
