BEGIN:VCALENDAR
VERSION:2.0
PRODID:-//University of Central Punjab
CALSCALE:GREGORIAN
METHOD:PUBLISH
X-WR-CALNAME:University of Central Punjab
X-ORIGINAL-URL:https://ucp.edu.pk/event/virsa-18-photo-walk/
X-WR-CALDESC:VIRSA’ 18 Photo walk
BEGIN:VEVENT
DTSTART:20180106T000000
DTEND:20180106T000000
SUMMARY:VIRSA’ 18 Photo walk
DESCRIPTION:
LOCATION:University of Central Punjab, Johar Town, Lahore.
END:VEVENT
END:VCALENDAR
