BEGIN:VCALENDAR
VERSION:2.0
PRODID:-//University of Central Punjab
CALSCALE:GREGORIAN
METHOD:PUBLISH
X-WR-CALNAME:University of Central Punjab
X-ORIGINAL-URL:https://ucp.edu.pk/event/voice-ucp-dj-night/
X-WR-CALDESC:Voice of UCP and DJ Night
BEGIN:VEVENT
DTSTART:20180111T000000
DTEND:20180112T000000
SUMMARY:Voice of UCP and DJ Night
DESCRIPTION:
LOCATION:University of Central Punjab, Johar Town, Lahore.
END:VEVENT
END:VCALENDAR
