BEGIN:VCALENDAR
VERSION:2.0
PRODID:-//University of Central Punjab
CALSCALE:GREGORIAN
METHOD:PUBLISH
X-WR-CALNAME:University of Central Punjab
X-ORIGINAL-URL:https://ucp.edu.pk/event/free-medical-camp-saifel-de-jhok-village/
X-WR-CALDESC:Free Medical Camp in Saifel de Jhok Village
BEGIN:VEVENT
DTSTART:20180121T000000
DTEND:20180121T000000
SUMMARY:Free Medical Camp in Saifel de Jhok Village
DESCRIPTION:
LOCATION:Saifel de Jhok Village, Tandliawala near Okara
END:VEVENT
END:VCALENDAR
