BEGIN:VCALENDAR
VERSION:2.0
PRODID:-//University of Central Punjab
CALSCALE:GREGORIAN
METHOD:PUBLISH
X-WR-CALNAME:University of Central Punjab
X-ORIGINAL-URL:https://ucp.edu.pk/event/guest-speaker-session-cv-writing/
X-WR-CALDESC:Guest Speaker Session-CV Writing
BEGIN:VEVENT
DTSTART:20180413T000000
DTEND:20180413T000000
SUMMARY:Guest Speaker Session-CV Writing
DESCRIPTION:
LOCATION:University of Central Punjab, Johar Town, Lahore.
END:VEVENT
END:VCALENDAR
