BEGIN:VCALENDAR
VERSION:2.0
PRODID:-//University of Central Punjab
CALSCALE:GREGORIAN
METHOD:PUBLISH
X-WR-CALNAME:University of Central Punjab
X-ORIGINAL-URL:https://ucp.edu.pk/event/guest-speaker-initiative-mba-students/
X-WR-CALDESC:Guest Speaker Initiative for MBA Students
BEGIN:VEVENT
DTSTART:20180416T000000
DTEND:20180416T000000
SUMMARY:Guest Speaker Initiative for MBA Students
DESCRIPTION:
LOCATION:University of Central Punjab
END:VEVENT
END:VCALENDAR
