BEGIN:VCALENDAR
VERSION:2.0
PRODID:-//University of Central Punjab
CALSCALE:GREGORIAN
METHOD:PUBLISH
X-WR-CALNAME:University of Central Punjab
X-ORIGINAL-URL:https://ucp.edu.pk/event/loreal-pakistan-bba-program-guest-speaker-session/
X-WR-CALDESC:L’oreal In Pakistan – BBA Program Guest Speaker Session
BEGIN:VEVENT
DTSTART:20180430T000000
DTEND:20180430T000000
SUMMARY:L’oreal In Pakistan – BBA Program Guest Speaker Session
DESCRIPTION:
LOCATION:University of Central Punjab, Lahore
END:VEVENT
END:VCALENDAR
