BEGIN:VCALENDAR
VERSION:2.0
PRODID:-//University of Central Punjab
CALSCALE:GREGORIAN
METHOD:PUBLISH
X-WR-CALNAME:University of Central Punjab
X-ORIGINAL-URL:https://ucp.edu.pk/event/4th-international-pharmacy-scientific-symposium/
X-WR-CALDESC:4th International Pharmacy Scientific Symposium
BEGIN:VEVENT
DTSTART:20180511T000000
DTEND:20180512T000000
SUMMARY:4th International Pharmacy Scientific Symposium
DESCRIPTION:
LOCATION:University of Central Punjab, Lahore
END:VEVENT
END:VCALENDAR
