BEGIN:VCALENDAR
VERSION:2.0
PRODID:-//University of Central Punjab
CALSCALE:GREGORIAN
METHOD:PUBLISH
X-WR-CALNAME:University of Central Punjab
X-ORIGINAL-URL:https://ucp.edu.pk/event/mou-signing-fmcs-icuc/
X-WR-CALDESC:MOU Signing Between FMCS &#038; ICUC
BEGIN:VEVENT
DTSTART:20180630T000000
DTEND:20180630T000000
SUMMARY:MOU Signing Between FMCS &#038; ICUC
DESCRIPTION:
LOCATION:University of Central Punjab, Lahore
END:VEVENT
END:VCALENDAR
