BEGIN:VCALENDAR
VERSION:2.0
PRODID:-//University of Central Punjab
CALSCALE:GREGORIAN
METHOD:PUBLISH
X-WR-CALNAME:University of Central Punjab
X-ORIGINAL-URL:https://ucp.edu.pk/event/dos-donts-bringing-creative-ideas-life-entrepreneur/
X-WR-CALDESC:The Do’s And Don&#8217;ts Of Bringing Creative Ideas To Life &#8211; Entrepreneur
BEGIN:VEVENT
DTSTART:20180627T000000
DTEND:20180627T000000
SUMMARY:The Do’s And Don&#8217;ts Of Bringing Creative Ideas To Life &#8211; Entrepreneur
DESCRIPTION:
LOCATION:University of Central Punjab, Lahore
END:VEVENT
END:VCALENDAR
