BEGIN:VCALENDAR
VERSION:2.0
PRODID:-//University of Central Punjab
CALSCALE:GREGORIAN
METHOD:PUBLISH
X-WR-CALNAME:University of Central Punjab
X-ORIGINAL-URL:https://ucp.edu.pk/event/annual-play18-god-father/
X-WR-CALDESC:Annual Play’18 – The God Father
BEGIN:VEVENT
DTSTART:20180620T000000
DTEND:20180620T000000
SUMMARY:Annual Play’18 – The God Father
DESCRIPTION:
LOCATION:University of Central Punjab, Lahore 
END:VEVENT
END:VCALENDAR
