BEGIN:VCALENDAR
VERSION:2.0
PRODID:-//University of Central Punjab
CALSCALE:GREGORIAN
METHOD:PUBLISH
X-WR-CALNAME:University of Central Punjab
X-ORIGINAL-URL:https://ucp.edu.pk/event/workshop-bio-safety/
X-WR-CALDESC:Workshop on Bio-safety
BEGIN:VEVENT
DTSTART:20181023T000000
DTEND:20181023T000000
SUMMARY:Workshop on Bio-safety
DESCRIPTION:
LOCATION:University of Central Punjab, Johar Town, Lahore.
END:VEVENT
END:VCALENDAR
