BEGIN:VCALENDAR
VERSION:2.0
PRODID:-//University of Central Punjab
CALSCALE:GREGORIAN
METHOD:PUBLISH
X-WR-CALNAME:University of Central Punjab
X-ORIGINAL-URL:https://ucp.edu.pk/event/annual-milad-2018/
X-WR-CALDESC:Annual Milad 2018
BEGIN:VEVENT
DTSTART:20181113T000000
DTEND:20181114T000000
SUMMARY:Annual Milad 2018
DESCRIPTION:
LOCATION:University of Central Punjab, Johar Town, Lahore.
END:VEVENT
END:VCALENDAR
