BEGIN:VCALENDAR
VERSION:2.0
PRODID:-//University of Central Punjab
CALSCALE:GREGORIAN
METHOD:PUBLISH
X-WR-CALNAME:University of Central Punjab
X-ORIGINAL-URL:https://ucp.edu.pk/event/women-hygiene-nisa-society/
X-WR-CALDESC:WOMEN AND HYGIENE NISA SOCIETY
BEGIN:VEVENT
DTSTART:20181204T000000
DTEND:20181204T000000
SUMMARY:WOMEN AND HYGIENE NISA SOCIETY
DESCRIPTION:
LOCATION:University of Central Punjab, Johar Town, Lahore.
END:VEVENT
END:VCALENDAR
