BEGIN:VCALENDAR
VERSION:2.0
PRODID:-//University of Central Punjab
CALSCALE:GREGORIAN
METHOD:PUBLISH
X-WR-CALNAME:University of Central Punjab
X-ORIGINAL-URL:https://ucp.edu.pk/event/role-un-sustainable-development-goals-mitigating-environmental-issues-2/
X-WR-CALDESC:Role of UN Sustainable Development Goals for Mitigating Environmental Issues
BEGIN:VEVENT
DTSTART:20190110T000000
DTEND:20190110T000000
SUMMARY:Role of UN Sustainable Development Goals for Mitigating Environmental Issues
DESCRIPTION:
LOCATION:University of Central Punjab, Johar Town, Lahore.
END:VEVENT
END:VCALENDAR
