BEGIN:VCALENDAR
VERSION:2.0
PRODID:-//University of Central Punjab
CALSCALE:GREGORIAN
METHOD:PUBLISH
X-WR-CALNAME:University of Central Punjab
X-ORIGINAL-URL:https://ucp.edu.pk/event/final-year-project-exhibition/
X-WR-CALDESC:Final Year Project Exhibition
BEGIN:VEVENT
DTSTART:20190101T000000
DTEND:20190101T000000
SUMMARY:Final Year Project Exhibition
DESCRIPTION:
LOCATION:University of Central Punjab, Johar Town, Lahore.
END:VEVENT
END:VCALENDAR
