BEGIN:VCALENDAR
VERSION:2.0
PRODID:-//University of Central Punjab
CALSCALE:GREGORIAN
METHOD:PUBLISH
X-WR-CALNAME:University of Central Punjab
X-ORIGINAL-URL:https://ucp.edu.pk/event/workshop-movie-critique/
X-WR-CALDESC:Workshop on Movie Critique
BEGIN:VEVENT
DTSTART:20190110T000000
DTEND:20190110T000000
SUMMARY:Workshop on Movie Critique
DESCRIPTION:
LOCATION:University of Central Punjab, Johar Town, Lahore.
END:VEVENT
END:VCALENDAR
