BEGIN:VCALENDAR
VERSION:2.0
PRODID:-//University of Central Punjab
CALSCALE:GREGORIAN
METHOD:PUBLISH
X-WR-CALNAME:University of Central Punjab
X-ORIGINAL-URL:https://ucp.edu.pk/event/guest-speaker-session-four-principles-clear-writing/
X-WR-CALDESC:Guest Speaker Session on Four Principles of Clear Writing
BEGIN:VEVENT
DTSTART:20190121T000000
DTEND:20190121T000000
SUMMARY:Guest Speaker Session on Four Principles of Clear Writing
DESCRIPTION:
LOCATION:University of Central Punjab, Johar Town, Lahore.
END:VEVENT
END:VCALENDAR
