BEGIN:VCALENDAR
VERSION:2.0
PRODID:-//University of Central Punjab
CALSCALE:GREGORIAN
METHOD:PUBLISH
X-WR-CALNAME:University of Central Punjab
X-ORIGINAL-URL:https://ucp.edu.pk/event/ucp-taakra-2019/
X-WR-CALDESC:UCP Taakra 2019
BEGIN:VEVENT
DTSTART:20190220T000000
DTEND:20190224T000000
SUMMARY:UCP Taakra 2019
DESCRIPTION:
LOCATION:University of Central Punjab, Johar Town, Lahore.
END:VEVENT
END:VCALENDAR
