BEGIN:VCALENDAR
VERSION:2.0
PRODID:-//University of Central Punjab
CALSCALE:GREGORIAN
METHOD:PUBLISH
X-WR-CALNAME:University of Central Punjab
X-ORIGINAL-URL:https://ucp.edu.pk/event/guest-speaker-session-kamran-rizvi-umair-jaliawala/
X-WR-CALDESC:Guest Speaker Session by Kamran Rizvi &#038; Umair Jaliawala
BEGIN:VEVENT
DTSTART:20190325T000000
DTEND:20190325T000000
SUMMARY:Guest Speaker Session by Kamran Rizvi &#038; Umair Jaliawala
DESCRIPTION:
LOCATION:University of Central Punjab, Johar Town, Lahore.
END:VEVENT
END:VCALENDAR
