BEGIN:VCALENDAR
VERSION:2.0
PRODID:-//University of Central Punjab
CALSCALE:GREGORIAN
METHOD:PUBLISH
X-WR-CALNAME:University of Central Punjab
X-ORIGINAL-URL:https://ucp.edu.pk/event/guest-speaker-session-islamophobia-west-implications-muslim-world/
X-WR-CALDESC:Guest Speaker Session on Islamophobia in the west and implications for the Muslim world.
BEGIN:VEVENT
DTSTART:20190327T000000
DTEND:20190327T000000
SUMMARY:Guest Speaker Session on Islamophobia in the west and implications for the Muslim world.
DESCRIPTION:
LOCATION:University of Central Punjab, Johar Town, Lahore.
END:VEVENT
END:VCALENDAR
