BEGIN:VCALENDAR
VERSION:2.0
PRODID:-//University of Central Punjab
CALSCALE:GREGORIAN
METHOD:PUBLISH
X-WR-CALNAME:University of Central Punjab
X-ORIGINAL-URL:https://ucp.edu.pk/event/panel-discussion-faculty-engineering/
X-WR-CALDESC:Panel Discussion for Faculty of Engineering
BEGIN:VEVENT
DTSTART:20190328T000000
DTEND:20190328T000000
SUMMARY:Panel Discussion for Faculty of Engineering
DESCRIPTION:
LOCATION:University of Central Punjab, Johar Town, Lahore.
END:VEVENT
END:VCALENDAR
