BEGIN:VCALENDAR
VERSION:2.0
PRODID:-//University of Central Punjab
CALSCALE:GREGORIAN
METHOD:PUBLISH
X-WR-CALNAME:University of Central Punjab
X-ORIGINAL-URL:https://ucp.edu.pk/event/5th-annual-international-pharmacy-scientific-symposium-pharmaceutical-exhibition/
X-WR-CALDESC:The 5th Annual International Pharmacy Scientific Symposium &#038; Pharmaceutical Exhibition
BEGIN:VEVENT
DTSTART:20190329T000000
DTEND:20190330T000000
SUMMARY:The 5th Annual International Pharmacy Scientific Symposium &#038; Pharmaceutical Exhibition
DESCRIPTION:
LOCATION:University of Central Punjab, Johar Town, Lahore.
END:VEVENT
END:VCALENDAR
