BEGIN:VCALENDAR
VERSION:2.0
PRODID:-//University of Central Punjab
CALSCALE:GREGORIAN
METHOD:PUBLISH
X-WR-CALNAME:University of Central Punjab
X-ORIGINAL-URL:https://ucp.edu.pk/event/seminar-traffic-awareness-driving-learners-license/
X-WR-CALDESC:Seminar on Traffic Awareness &#038; Driving Learners License Camp
BEGIN:VEVENT
DTSTART:20190410T000000
DTEND:20190410T000000
SUMMARY:Seminar on Traffic Awareness &#038; Driving Learners License Camp
DESCRIPTION:
LOCATION:University of Central Punjab, Johar Town, Lahore.
END:VEVENT
END:VCALENDAR
