BEGIN:VCALENDAR
VERSION:2.0
PRODID:-//University of Central Punjab
CALSCALE:GREGORIAN
METHOD:PUBLISH
X-WR-CALNAME:University of Central Punjab
X-ORIGINAL-URL:https://ucp.edu.pk/event/session-practicing-tms-pakistan/
X-WR-CALDESC:Session on Practicing TMS in Pakistan
BEGIN:VEVENT
DTSTART:20190423T000000
DTEND:20190423T000000
SUMMARY:Session on Practicing TMS in Pakistan
DESCRIPTION:
LOCATION:University of Central Punjab, Johar Town, Lahore.
END:VEVENT
END:VCALENDAR
