BEGIN:VCALENDAR
VERSION:2.0
PRODID:-//University of Central Punjab
CALSCALE:GREGORIAN
METHOD:PUBLISH
X-WR-CALNAME:University of Central Punjab
X-ORIGINAL-URL:https://ucp.edu.pk/event/capacity-building-student-entrepreneurs-ayub-ghauri/
X-WR-CALDESC:Capacity Building of Student Entrepreneurs- Ayub Ghauri
BEGIN:VEVENT
DTSTART:20190124T000000
DTEND:20190124T000000
SUMMARY:Capacity Building of Student Entrepreneurs- Ayub Ghauri
DESCRIPTION:
LOCATION:University of Central Punjab, Johar Town, Lahore.
END:VEVENT
END:VCALENDAR
