BEGIN:VCALENDAR
VERSION:2.0
PRODID:-//University of Central Punjab
CALSCALE:GREGORIAN
METHOD:PUBLISH
X-WR-CALNAME:University of Central Punjab
X-ORIGINAL-URL:https://ucp.edu.pk/event/ucp-entrepreneura-1/
X-WR-CALDESC:UCP –Entrepreneura
BEGIN:VEVENT
DTSTART:20190412T000000
DTEND:20190413T000000
SUMMARY:UCP –Entrepreneura
DESCRIPTION:
LOCATION:University of Central Punjab, Johar Town, Lahore.
END:VEVENT
END:VCALENDAR
