BEGIN:VCALENDAR
VERSION:2.0
PRODID:-//University of Central Punjab
CALSCALE:GREGORIAN
METHOD:PUBLISH
X-WR-CALNAME:University of Central Punjab
X-ORIGINAL-URL:https://ucp.edu.pk/event/seminar-participation-organized-qec-ucp/
X-WR-CALDESC:Seminar Participation/Organized by QEC @ UCP
BEGIN:VEVENT
DTSTART:20190329T000000
DTEND:20190329T000000
SUMMARY:Seminar Participation/Organized by QEC @ UCP
DESCRIPTION:
LOCATION:Lahore
END:VEVENT
END:VCALENDAR
