BEGIN:VCALENDAR
VERSION:2.0
PRODID:-//University of Central Punjab
CALSCALE:GREGORIAN
METHOD:PUBLISH
X-WR-CALNAME:University of Central Punjab
X-ORIGINAL-URL:https://ucp.edu.pk/event/one-day-free-dental-health-examination/
X-WR-CALDESC:One Day Free Dental Health Examination
BEGIN:VEVENT
DTSTART:20190503T000000
DTEND:20190503T000000
SUMMARY:One Day Free Dental Health Examination
DESCRIPTION:
LOCATION:University of Central Punjab, Johar Town, Lahore.
END:VEVENT
END:VCALENDAR
