BEGIN:VCALENDAR
VERSION:2.0
PRODID:-//University of Central Punjab
CALSCALE:GREGORIAN
METHOD:PUBLISH
X-WR-CALNAME:University of Central Punjab
X-ORIGINAL-URL:https://ucp.edu.pk/event/blood-donation-camp-4/
X-WR-CALDESC:Blood Donation Camp
BEGIN:VEVENT
DTSTART:20190429T000000
DTEND:20190430T000000
SUMMARY:Blood Donation Camp
DESCRIPTION:
LOCATION:University of Central Punjab, Johar Town, Lahore.
END:VEVENT
END:VCALENDAR
