BEGIN:VCALENDAR
VERSION:2.0
PRODID:-//University of Central Punjab
CALSCALE:GREGORIAN
METHOD:PUBLISH
X-WR-CALNAME:University of Central Punjab
X-ORIGINAL-URL:https://ucp.edu.pk/event/iftar-deserving-needy-people/
X-WR-CALDESC:Iftar for Deserving and Needy People
BEGIN:VEVENT
DTSTART:20190528T000000
DTEND:20190528T000000
SUMMARY:Iftar for Deserving and Needy People
DESCRIPTION:
LOCATION:
END:VEVENT
END:VCALENDAR
