BEGIN:VCALENDAR
VERSION:2.0
PRODID:-//University of Central Punjab
CALSCALE:GREGORIAN
METHOD:PUBLISH
X-WR-CALNAME:University of Central Punjab
X-ORIGINAL-URL:https://ucp.edu.pk/event/ucp-parliamentary-debating-championship/
X-WR-CALDESC:UCP Parliamentary Debating Championship
BEGIN:VEVENT
DTSTART:20190419T000000
DTEND:20190421T000000
SUMMARY:UCP Parliamentary Debating Championship
DESCRIPTION:
LOCATION:University of Central Punjab Lahore
END:VEVENT
END:VCALENDAR
