BEGIN:VCALENDAR
VERSION:2.0
PRODID:-//University of Central Punjab
CALSCALE:GREGORIAN
METHOD:PUBLISH
X-WR-CALNAME:University of Central Punjab
X-ORIGINAL-URL:https://ucp.edu.pk/event/session-law-justice-2/
X-WR-CALDESC:Session on Law and Justice
BEGIN:VEVENT
DTSTART:20190429T000000
DTEND:20190429T000000
SUMMARY:Session on Law and Justice
DESCRIPTION:
LOCATION:University of Central Punjab Lahore
END:VEVENT
END:VCALENDAR
