BEGIN:VCALENDAR
VERSION:2.0
PRODID:-//University of Central Punjab
CALSCALE:GREGORIAN
METHOD:PUBLISH
X-WR-CALNAME:University of Central Punjab
X-ORIGINAL-URL:https://ucp.edu.pk/event/session-law-justice-2-2-2-2-3/
X-WR-CALDESC:A Guest Speaker Session on Seed Funding
BEGIN:VEVENT
DTSTART:20190618T000000
DTEND:20190618T000000
SUMMARY:A Guest Speaker Session on Seed Funding
DESCRIPTION:
LOCATION:University of Central Punjab Lahore
END:VEVENT
END:VCALENDAR
