BEGIN:VCALENDAR
VERSION:2.0
PRODID:-//University of Central Punjab
CALSCALE:GREGORIAN
METHOD:PUBLISH
X-WR-CALNAME:University of Central Punjab
X-ORIGINAL-URL:https://ucp.edu.pk/event/world-blood-donors-day-2-2/
X-WR-CALDESC:Toba Tek Singh
BEGIN:VEVENT
DTSTART:20190627T000000
DTEND:20190628T000000
SUMMARY:Toba Tek Singh
DESCRIPTION:
LOCATION:
END:VEVENT
END:VCALENDAR
