BEGIN:VCALENDAR
VERSION:2.0
PRODID:-//University of Central Punjab
CALSCALE:GREGORIAN
METHOD:PUBLISH
X-WR-CALNAME:University of Central Punjab
X-ORIGINAL-URL:https://ucp.edu.pk/event/entrepreneurship-seminar-plan-9/
X-WR-CALDESC:Entrepreneurship Seminar by Plan 9
BEGIN:VEVENT
DTSTART:20191109T000000
DTEND:20191109T000000
SUMMARY:Entrepreneurship Seminar by Plan 9
DESCRIPTION:
LOCATION:
END:VEVENT
END:VCALENDAR
