BEGIN:VCALENDAR
VERSION:2.0
PRODID:-//University of Central Punjab
CALSCALE:GREGORIAN
METHOD:PUBLISH
X-WR-CALNAME:University of Central Punjab
X-ORIGINAL-URL:https://ucp.edu.pk/event/falsafa-e-ishq/
X-WR-CALDESC:Falsafa-e-Ishq
BEGIN:VEVENT
DTSTART:20191108T000000
DTEND:20191108T000000
SUMMARY:Falsafa-e-Ishq
DESCRIPTION:
LOCATION:Auditorium
END:VEVENT
END:VCALENDAR
