BEGIN:VCALENDAR
VERSION:2.0
PRODID:-//University of Central Punjab
CALSCALE:GREGORIAN
METHOD:PUBLISH
X-WR-CALNAME:University of Central Punjab
X-ORIGINAL-URL:https://ucp.edu.pk/event/business-opportunities-financial-system-innovation-challenges-real-estate-sector-pakistan/
X-WR-CALDESC:Business Opportunities, Financial System Innovation &#038; Challenges in Real Estate Sector of Pakistan
BEGIN:VEVENT
DTSTART:20200109T000000
DTEND:20200109T000000
SUMMARY:Business Opportunities, Financial System Innovation &#038; Challenges in Real Estate Sector of Pakistan
DESCRIPTION:
LOCATION:
END:VEVENT
END:VCALENDAR
